Package: REMP Version: 1.34.0 Command: rm -rf REMP.buildbin-libdir && mkdir REMP.buildbin-libdir && /Users/biocbuild/BBS/utils/build-universal.sh REMP_1.34.0.tar.gz /Library/Frameworks/R.framework/Resources/bin/R REMP.buildbin-libdir StartedAt: 2025-11-02 23:17:56 -0500 (Sun, 02 Nov 2025) EndedAt: 2025-11-02 23:18:21 -0500 (Sun, 02 Nov 2025) EllapsedTime: 25.5 seconds RetCode: 0 Status: OK PackageFile: REMP_1.34.0.tgz PackageFileSize: 696.6 KiB