Package: REDseq Version: 1.56.0 Command: /home/biocbuild/bbs-3.22-bioc/R/bin/R CMD check --install=check:REDseq.install-out.txt --library=/home/biocbuild/bbs-3.22-bioc/R/site-library --timings REDseq_1.56.0.tar.gz StartedAt: 2025-11-18 07:39:18 -0500 (Tue, 18 Nov 2025) EndedAt: 2025-11-18 07:45:12 -0500 (Tue, 18 Nov 2025) EllapsedTime: 354.4 seconds RetCode: 0 Status: OK CheckDir: REDseq.Rcheck Warnings: 0