Package: REDseq Version: 1.56.0 Command: /Library/Frameworks/R.framework/Resources/bin/R CMD INSTALL REDseq StartedAt: 2025-11-03 15:48:24 -0500 (Mon, 03 Nov 2025) EndedAt: 2025-11-03 15:49:28 -0500 (Mon, 03 Nov 2025) EllapsedTime: 64.6 seconds RetCode: 0 Status: OK