Package: REDseq Version: 1.56.0 Command: /Library/Frameworks/R.framework/Resources/bin/R CMD build --keep-empty-dirs --no-resave-data REDseq StartedAt: 2025-11-03 18:25:24 -0500 (Mon, 03 Nov 2025) EndedAt: 2025-11-03 18:26:46 -0500 (Mon, 03 Nov 2025) EllapsedTime: 82.2 seconds RetCode: 0 Status: OK PackageFile: REDseq_1.56.0.tar.gz PackageFileSize: 360.9 KiB