Package: REDseq Version: 1.56.0 Command: rm -rf REDseq.buildbin-libdir && mkdir REDseq.buildbin-libdir && /Users/biocbuild/BBS/utils/build-universal.sh REDseq_1.56.0.tar.gz /Library/Frameworks/R.framework/Resources/bin/R REDseq.buildbin-libdir StartedAt: 2025-11-04 01:58:42 -0500 (Tue, 04 Nov 2025) EndedAt: 2025-11-04 01:59:49 -0500 (Tue, 04 Nov 2025) EllapsedTime: 66.9 seconds RetCode: 0 Status: OK PackageFile: REDseq_1.56.0.tgz PackageFileSize: 417.3 KiB