Package: REDseq Version: 1.54.0 Command: rm -rf REDseq.buildbin-libdir && mkdir REDseq.buildbin-libdir && /Users/biocbuild/BBS/utils/build-universal.sh REDseq_1.54.0.tar.gz /Library/Frameworks/R.framework/Resources/bin/R REDseq.buildbin-libdir StartedAt: 2025-04-21 22:48:17 -0400 (Mon, 21 Apr 2025) EndedAt: 2025-04-21 22:48:38 -0400 (Mon, 21 Apr 2025) EllapsedTime: 21.4 seconds RetCode: 0 Status: OK PackageFile: REDseq_1.54.0.tgz PackageFileSize: 417.7 KiB