Package: RDRToolbox Version: 1.60.0 Command: /home/biocbuild/R/R/bin/R CMD INSTALL RDRToolbox StartedAt: 2025-11-10 21:09:57 -0000 (Mon, 10 Nov 2025) EndedAt: 2025-11-10 21:10:58 -0000 (Mon, 10 Nov 2025) EllapsedTime: 61.2 seconds RetCode: 0 Status: OK