Package: RDRToolbox Version: 1.60.0 Command: /home/biocbuild/R/R/bin/R CMD build --keep-empty-dirs --no-resave-data RDRToolbox StartedAt: 2025-11-11 04:25:17 -0000 (Tue, 11 Nov 2025) EndedAt: 2025-11-11 04:25:27 -0000 (Tue, 11 Nov 2025) EllapsedTime: 10.0 seconds RetCode: 0 Status: OK PackageFile: RDRToolbox_1.60.0.tar.gz PackageFileSize: 185.9 KiB