Package: RDRToolbox Version: 1.60.0 Command: /home/biocbuild/bbs-3.22-bioc/R/bin/R CMD INSTALL RDRToolbox StartedAt: 2025-11-14 15:08:23 -0500 (Fri, 14 Nov 2025) EndedAt: 2025-11-14 15:09:01 -0500 (Fri, 14 Nov 2025) EllapsedTime: 38.4 seconds RetCode: 0 Status: OK