Package: RDRToolbox Version: 1.60.0 Command: /home/biocbuild/bbs-3.22-bioc/R/bin/R CMD build --keep-empty-dirs --no-resave-data --md5 RDRToolbox StartedAt: 2025-11-13 19:39:35 -0500 (Thu, 13 Nov 2025) EndedAt: 2025-11-13 19:39:47 -0500 (Thu, 13 Nov 2025) EllapsedTime: 12.0 seconds RetCode: 0 Status: OK PackageFile: RDRToolbox_1.60.0.tar.gz PackageFileSize: 191.3 KiB