Package: RDRToolbox Version: 1.58.0 Command: /Library/Frameworks/R.framework/Resources/bin/R CMD build --keep-empty-dirs --no-resave-data RDRToolbox StartedAt: 2025-09-29 21:54:07 -0400 (Mon, 29 Sep 2025) EndedAt: 2025-09-29 21:54:35 -0400 (Mon, 29 Sep 2025) EllapsedTime: 28.0 seconds RetCode: 0 Status: OK PackageFile: RDRToolbox_1.58.0.tar.gz PackageFileSize: 189.9 KiB