Package: RCyjs Version: 2.32.0 Command: /home/biocbuild/bbs-3.22-bioc/R/bin/R CMD INSTALL RCyjs StartedAt: 2025-11-13 15:14:36 -0500 (Thu, 13 Nov 2025) EndedAt: 2025-11-13 15:14:42 -0500 (Thu, 13 Nov 2025) EllapsedTime: 6.7 seconds RetCode: 0 Status: OK