Package: RCyjs Version: 2.32.0 Command: /home/biocbuild/bbs-3.22-bioc/R/bin/R CMD build --keep-empty-dirs --no-resave-data --md5 RCyjs StartedAt: 2025-11-13 19:39:27 -0500 (Thu, 13 Nov 2025) EndedAt: 2025-11-13 19:39:36 -0500 (Thu, 13 Nov 2025) EllapsedTime: 9.0 seconds RetCode: 0 Status: OK PackageFile: RCyjs_2.32.0.tar.gz PackageFileSize: 1.087 MiB