Package: RCyjs Version: 2.30.0 Command: /home/biocbuild/R/R/bin/R CMD INSTALL RCyjs StartedAt: 2025-10-13 20:25:37 -0000 (Mon, 13 Oct 2025) EndedAt: 2025-10-13 20:25:45 -0000 (Mon, 13 Oct 2025) EllapsedTime: 7.9 seconds RetCode: 0 Status: OK