Package: RCyjs Version: 2.30.0 Command: /home/biocbuild/R/R/bin/R CMD build --keep-empty-dirs --no-resave-data RCyjs StartedAt: 2025-10-14 03:54:38 -0000 (Tue, 14 Oct 2025) EndedAt: 2025-10-14 03:54:50 -0000 (Tue, 14 Oct 2025) EllapsedTime: 12.0 seconds RetCode: 0 Status: OK PackageFile: RCyjs_2.30.0.tar.gz PackageFileSize: 1.109 MiB