Package: RCyjs Version: 2.32.0 Command: /Library/Frameworks/R.framework/Resources/bin/R CMD build --keep-empty-dirs --no-resave-data RCyjs StartedAt: 2025-11-03 17:28:33 -0500 (Mon, 03 Nov 2025) EndedAt: 2025-11-03 17:28:39 -0500 (Mon, 03 Nov 2025) EllapsedTime: 5.0 seconds RetCode: 0 Status: OK PackageFile: RCyjs_2.32.0.tar.gz PackageFileSize: 1.084 MiB