Package: RCyjs Version: 2.32.0 Command: rm -rf RCyjs.buildbin-libdir && mkdir RCyjs.buildbin-libdir && /Users/biocbuild/BBS/utils/build-universal.sh RCyjs_2.32.0.tar.gz /Library/Frameworks/R.framework/Resources/bin/R RCyjs.buildbin-libdir StartedAt: 2025-10-31 23:19:49 -0400 (Fri, 31 Oct 2025) EndedAt: 2025-10-31 23:19:52 -0400 (Fri, 31 Oct 2025) EllapsedTime: 3.1 seconds RetCode: 0 Status: OK PackageFile: RCyjs_2.32.0.tgz PackageFileSize: 1.008 MiB