Package: RCy3 Version: 2.30.0 Command: /home/biocbuild/bbs-3.22-bioc/R/bin/R CMD INSTALL RCy3 StartedAt: 2025-11-11 15:16:44 -0500 (Tue, 11 Nov 2025) EndedAt: 2025-11-11 15:16:56 -0500 (Tue, 11 Nov 2025) EllapsedTime: 12.1 seconds RetCode: 0 Status: OK