Package: RCy3 Version: 2.30.0 Command: /home/biocbuild/bbs-3.22-bioc/R/bin/R CMD build --keep-empty-dirs --no-resave-data --md5 RCy3 StartedAt: 2025-11-11 19:40:27 -0500 (Tue, 11 Nov 2025) EndedAt: 2025-11-11 19:41:01 -0500 (Tue, 11 Nov 2025) EllapsedTime: 34.1 seconds RetCode: 0 Status: OK PackageFile: RCy3_2.30.0.tar.gz PackageFileSize: 6.482 MiB