Package: RCy3 Version: 2.28.1 Command: /home/biocbuild/R/R/bin/R CMD INSTALL RCy3 StartedAt: 2025-10-13 20:24:07 -0000 (Mon, 13 Oct 2025) EndedAt: 2025-10-13 20:24:24 -0000 (Mon, 13 Oct 2025) EllapsedTime: 17.4 seconds RetCode: 0 Status: OK