Package: RCy3 Version: 2.28.1 Command: /home/biocbuild/R/R/bin/R CMD build --keep-empty-dirs --no-resave-data RCy3 StartedAt: 2025-10-14 03:54:37 -0000 (Tue, 14 Oct 2025) EndedAt: 2025-10-14 03:55:33 -0000 (Tue, 14 Oct 2025) EllapsedTime: 56.0 seconds RetCode: 0 Status: OK PackageFile: RCy3_2.28.1.tar.gz PackageFileSize: 7.351 MiB