Package: RCy3 Version: 2.30.0 Command: /Library/Frameworks/R.framework/Resources/bin/R CMD INSTALL RCy3 StartedAt: 2025-11-03 15:06:49 -0500 (Mon, 03 Nov 2025) EndedAt: 2025-11-03 15:06:54 -0500 (Mon, 03 Nov 2025) EllapsedTime: 4.8 seconds RetCode: 0 Status: OK