Package: RCy3 Version: 2.30.0 Command: /Library/Frameworks/R.framework/Resources/bin/R CMD build --keep-empty-dirs --no-resave-data RCy3 StartedAt: 2025-11-03 17:28:30 -0500 (Mon, 03 Nov 2025) EndedAt: 2025-11-03 17:28:52 -0500 (Mon, 03 Nov 2025) EllapsedTime: 21.3 seconds RetCode: 0 Status: OK PackageFile: RCy3_2.30.0.tar.gz PackageFileSize: 6.207 MiB