Package: RCy3 Version: 2.30.0 Command: rm -rf RCy3.buildbin-libdir && mkdir RCy3.buildbin-libdir && /Users/biocbuild/BBS/utils/build-universal.sh RCy3_2.30.0.tar.gz /Library/Frameworks/R.framework/Resources/bin/R RCy3.buildbin-libdir StartedAt: 2025-11-02 23:17:37 -0500 (Sun, 02 Nov 2025) EndedAt: 2025-11-02 23:17:44 -0500 (Sun, 02 Nov 2025) EllapsedTime: 7.1 seconds RetCode: 0 Status: OK PackageFile: RCy3_2.30.0.tgz PackageFileSize: 7.092 MiB