Package: RCX Version: 1.14.0 Command: /home/biocbuild/bbs-3.22-bioc/R/bin/R CMD INSTALL RCX StartedAt: 2025-11-11 15:09:35 -0500 (Tue, 11 Nov 2025) EndedAt: 2025-11-11 15:09:44 -0500 (Tue, 11 Nov 2025) EllapsedTime: 8.9 seconds RetCode: 0 Status: OK