Package: RCX Version: 1.14.0 Command: /home/biocbuild/bbs-3.22-bioc/R/bin/R CMD check --install=check:RCX.install-out.txt --library=/home/biocbuild/bbs-3.22-bioc/R/site-library --timings RCX_1.14.0.tar.gz StartedAt: 2025-11-15 03:26:43 -0500 (Sat, 15 Nov 2025) EndedAt: 2025-11-15 03:27:43 -0500 (Sat, 15 Nov 2025) EllapsedTime: 60.1 seconds RetCode: 0 Status: OK CheckDir: RCX.Rcheck Warnings: 0