Package: RCX Version: 1.14.0 Command: /home/biocbuild/bbs-3.22-bioc/R/bin/R CMD build --keep-empty-dirs --no-resave-data --md5 RCX StartedAt: 2025-11-11 19:40:25 -0500 (Tue, 11 Nov 2025) EndedAt: 2025-11-11 19:40:47 -0500 (Tue, 11 Nov 2025) EllapsedTime: 22.1 seconds RetCode: 0 Status: OK PackageFile: RCX_1.14.0.tar.gz PackageFileSize: 4.58 MiB