Package: RCX Version: 1.12.1 Command: /home/biocbuild/bbs-3.21-bioc/R/bin/R CMD INSTALL RCX StartedAt: 2025-10-15 15:05:00 -0400 (Wed, 15 Oct 2025) EndedAt: 2025-10-15 15:05:06 -0400 (Wed, 15 Oct 2025) EllapsedTime: 6.3 seconds RetCode: 0 Status: OK