Package: RCX Version: 1.12.1 Command: /home/biocbuild/bbs-3.21-bioc/R/bin/R CMD build --keep-empty-dirs --no-resave-data RCX StartedAt: 2025-10-15 19:24:07 -0400 (Wed, 15 Oct 2025) EndedAt: 2025-10-15 19:24:29 -0400 (Wed, 15 Oct 2025) EllapsedTime: 22.0 seconds RetCode: 0 Status: OK PackageFile: RCX_1.12.1.tar.gz PackageFileSize: 4.574 MiB