Package: RCX Version: 1.14.0 Command: /Library/Frameworks/R.framework/Resources/bin/R CMD INSTALL RCX StartedAt: 2025-10-31 15:16:56 -0400 (Fri, 31 Oct 2025) EndedAt: 2025-10-31 15:17:31 -0400 (Fri, 31 Oct 2025) EllapsedTime: 34.5 seconds RetCode: 0 Status: OK