Package: RCX Version: 1.14.0 Command: /Library/Frameworks/R.framework/Resources/bin/R CMD build --keep-empty-dirs --no-resave-data RCX StartedAt: 2025-11-02 18:26:45 -0500 (Sun, 02 Nov 2025) EndedAt: 2025-11-02 18:27:28 -0500 (Sun, 02 Nov 2025) EllapsedTime: 43.5 seconds RetCode: 0 Status: OK PackageFile: RCX_1.14.0.tar.gz PackageFileSize: 4.574 MiB