Package: RCX Version: 1.14.0 Command: rm -rf RCX.buildbin-libdir && mkdir RCX.buildbin-libdir && /Users/biocbuild/BBS/utils/build-universal.sh RCX_1.14.0.tar.gz /Library/Frameworks/R.framework/Resources/bin/R RCX.buildbin-libdir StartedAt: 2025-11-01 01:52:01 -0400 (Sat, 01 Nov 2025) EndedAt: 2025-11-01 01:52:14 -0400 (Sat, 01 Nov 2025) EllapsedTime: 12.7 seconds RetCode: 0 Status: OK PackageFile: RCX_1.14.0.tgz PackageFileSize: 3.611 MiB