Package: RCX Version: 1.12.1 Command: /home/biocbuild/R/R/bin/R CMD INSTALL RCX StartedAt: 2025-10-06 20:16:11 -0000 (Mon, 06 Oct 2025) EndedAt: 2025-10-06 20:16:21 -0000 (Mon, 06 Oct 2025) EllapsedTime: 9.6 seconds RetCode: 0 Status: OK