Package: RCX Version: 1.12.1 Command: /home/biocbuild/R/R/bin/R CMD build --keep-empty-dirs --no-resave-data RCX StartedAt: 2025-10-07 03:53:32 -0000 (Tue, 07 Oct 2025) EndedAt: 2025-10-07 03:54:05 -0000 (Tue, 07 Oct 2025) EllapsedTime: 33.0 seconds RetCode: 0 Status: OK PackageFile: RCX_1.12.1.tar.gz PackageFileSize: 4.673 MiB