Package: RCX Version: 1.14.0 Command: /Library/Frameworks/R.framework/Resources/bin/R CMD INSTALL RCX StartedAt: 2025-11-10 15:03:10 -0500 (Mon, 10 Nov 2025) EndedAt: 2025-11-10 15:03:14 -0500 (Mon, 10 Nov 2025) EllapsedTime: 3.3 seconds RetCode: 0 Status: OK