Package: RCSL Version: 1.18.0 Command: /home/biocbuild/bbs-3.22-bioc/R/bin/R CMD check --install=check:RCSL.install-out.txt --library=/home/biocbuild/bbs-3.22-bioc/R/site-library --timings RCSL_1.18.0.tar.gz StartedAt: 2025-11-14 03:14:05 -0500 (Fri, 14 Nov 2025) EndedAt: 2025-11-14 03:21:13 -0500 (Fri, 14 Nov 2025) EllapsedTime: 427.5 seconds RetCode: 0 Status: OK CheckDir: RCSL.Rcheck Warnings: 0