Package: RCSL Version: 1.16.0 Command: rm -rf RCSL.buildbin-libdir && mkdir RCSL.buildbin-libdir && /Users/biocbuild/BBS/utils/build-universal.sh RCSL_1.16.0.tar.gz /Library/Frameworks/R.framework/Resources/bin/R RCSL.buildbin-libdir StartedAt: 2025-04-21 22:48:03 -0400 (Mon, 21 Apr 2025) EndedAt: 2025-04-21 22:48:07 -0400 (Mon, 21 Apr 2025) EllapsedTime: 4.1 seconds RetCode: 0 Status: OK PackageFile: RCSL_1.16.0.tgz PackageFileSize: 3.037 MiB