Package: RCSL Version: 1.16.0 Command: /Library/Frameworks/R.framework/Resources/bin/R CMD INSTALL RCSL StartedAt: 2025-10-13 16:11:51 -0400 (Mon, 13 Oct 2025) EndedAt: 2025-10-13 16:12:02 -0400 (Mon, 13 Oct 2025) EllapsedTime: 10.5 seconds RetCode: 0 Status: OK