Package: RCSL Version: 1.16.0 Command: rm -rf RCSL.buildbin-libdir && mkdir RCSL.buildbin-libdir && /Users/biocbuild/BBS/utils/build-universal.sh RCSL_1.16.0.tar.gz /Library/Frameworks/R.framework/Resources/bin/R RCSL.buildbin-libdir StartedAt: 2025-10-15 20:00:16 -0400 (Wed, 15 Oct 2025) EndedAt: 2025-10-15 20:00:29 -0400 (Wed, 15 Oct 2025) EllapsedTime: 12.6 seconds RetCode: 0 Status: OK PackageFile: RCSL_1.16.0.tgz PackageFileSize: 3.047 MiB