Package: RCSL Version: 1.18.0 Maintainer: Qinglin Mei MaintainerEmail: meiqinglinkf at 163.com git_url: https://git.bioconductor.org/packages/RCSL git_branch: RELEASE_3_22 git_last_commit: 98e4992 git_last_commit_date: 2025-10-29 11:10:06 -0400 (Wed, 29 Oct 2025)