Package: RCM Version: 1.26.0 Command: /home/biocbuild/bbs-3.22-bioc/R/bin/R CMD INSTALL RCM StartedAt: 2025-11-11 15:21:46 -0500 (Tue, 11 Nov 2025) EndedAt: 2025-11-11 15:22:07 -0500 (Tue, 11 Nov 2025) EllapsedTime: 21.8 seconds RetCode: 0 Status: OK