Package: RCM Version: 1.26.0 Command: /home/biocbuild/bbs-3.22-bioc/R/bin/R CMD check --install=check:RCM.install-out.txt --library=/home/biocbuild/bbs-3.22-bioc/R/site-library --timings RCM_1.26.0.tar.gz StartedAt: 2025-11-15 03:26:24 -0500 (Sat, 15 Nov 2025) EndedAt: 2025-11-15 03:32:58 -0500 (Sat, 15 Nov 2025) EllapsedTime: 394.5 seconds RetCode: 0 Status: OK CheckDir: RCM.Rcheck Warnings: 0