Package: RCM Version: 1.26.0 Command: /home/biocbuild/bbs-3.22-bioc/R/bin/R CMD build --keep-empty-dirs --no-resave-data --md5 RCM StartedAt: 2025-11-11 19:39:15 -0500 (Tue, 11 Nov 2025) EndedAt: 2025-11-11 19:40:59 -0500 (Tue, 11 Nov 2025) EllapsedTime: 104.1 seconds RetCode: 0 Status: OK PackageFile: RCM_1.26.0.tar.gz PackageFileSize: 4.162 MiB