Package: RCM Version: 1.26.0 Command: /Library/Frameworks/R.framework/Resources/bin/R CMD INSTALL RCM StartedAt: 2025-11-03 15:23:13 -0500 (Mon, 03 Nov 2025) EndedAt: 2025-11-03 15:23:46 -0500 (Mon, 03 Nov 2025) EllapsedTime: 32.4 seconds RetCode: 0 Status: OK