Package: RCM Version: 1.26.0 Command: /Library/Frameworks/R.framework/Resources/bin/R CMD build --keep-empty-dirs --no-resave-data RCM StartedAt: 2025-11-02 18:26:12 -0500 (Sun, 02 Nov 2025) EndedAt: 2025-11-02 18:28:24 -0500 (Sun, 02 Nov 2025) EllapsedTime: 132.6 seconds RetCode: 0 Status: OK PackageFile: RCM_1.26.0.tar.gz PackageFileSize: 4.822 MiB