Package: RCM Version: 1.26.0 Command: rm -rf RCM.buildbin-libdir && mkdir RCM.buildbin-libdir && /Users/biocbuild/BBS/utils/build-universal.sh RCM_1.26.0.tar.gz /Library/Frameworks/R.framework/Resources/bin/R RCM.buildbin-libdir StartedAt: 2025-11-01 01:51:55 -0400 (Sat, 01 Nov 2025) EndedAt: 2025-11-01 01:52:32 -0400 (Sat, 01 Nov 2025) EllapsedTime: 37.2 seconds RetCode: 0 Status: OK PackageFile: RCM_1.26.0.tgz PackageFileSize: 5.064 MiB