Package: RCM Version: 1.24.0 Command: /home/biocbuild/R/R/bin/R CMD INSTALL RCM StartedAt: 2025-10-06 20:29:42 -0000 (Mon, 06 Oct 2025) EndedAt: 2025-10-06 20:30:14 -0000 (Mon, 06 Oct 2025) EllapsedTime: 31.5 seconds RetCode: 0 Status: OK