Package: RCM Version: 1.26.0 Command: /Library/Frameworks/R.framework/Resources/bin/R CMD build --keep-empty-dirs --no-resave-data RCM StartedAt: 2025-11-21 08:02:55 -0500 (Fri, 21 Nov 2025) EndedAt: 2025-11-21 08:05:13 -0500 (Fri, 21 Nov 2025) EllapsedTime: 138.2 seconds RetCode: 0 Status: OK PackageFile: RCM_1.26.0.tar.gz PackageFileSize: 4.826 MiB