Package: RCM Version: 1.26.0 Command: rm -rf RCM.buildbin-libdir && mkdir RCM.buildbin-libdir && /Users/biocbuild/BBS/utils/build-universal.sh RCM_1.26.0.tar.gz /Library/Frameworks/R.framework/Resources/bin/R RCM.buildbin-libdir StartedAt: 2025-11-23 10:46:20 -0500 (Sun, 23 Nov 2025) EndedAt: 2025-11-23 10:47:03 -0500 (Sun, 23 Nov 2025) EllapsedTime: 43.1 seconds RetCode: 0 Status: OK PackageFile: RCM_1.26.0.tgz PackageFileSize: 5.068 MiB