Package: RCASPAR Version: 1.56.0 Command: /home/biocbuild/bbs-3.22-bioc/R/bin/R CMD INSTALL RCASPAR StartedAt: 2025-11-11 15:06:08 -0500 (Tue, 11 Nov 2025) EndedAt: 2025-11-11 15:06:16 -0500 (Tue, 11 Nov 2025) EllapsedTime: 7.9 seconds RetCode: 0 Status: OK